BEGIN:VCALENDAR
VERSION:2.0
PRODID:-//gpclimat-fribourg - ECPv6.15.20//NONSGML v1.0//EN
CALSCALE:GREGORIAN
METHOD:PUBLISH
X-WR-CALNAME:gpclimat-fribourg
X-ORIGINAL-URL:https://gpclimat-fribourg.ch/de/
X-WR-CALDESC:Veranstaltungen für gpclimat-fribourg
REFRESH-INTERVAL;VALUE=DURATION:PT1H
X-Robots-Tag:noindex
X-PUBLISHED-TTL:PT1H
BEGIN:VTIMEZONE
TZID:Europe/Zurich
BEGIN:DAYLIGHT
TZOFFSETFROM:+0100
TZOFFSETTO:+0200
TZNAME:CEST
DTSTART:20250330T010000
END:DAYLIGHT
BEGIN:STANDARD
TZOFFSETFROM:+0200
TZOFFSETTO:+0100
TZNAME:CET
DTSTART:20251026T010000
END:STANDARD
BEGIN:DAYLIGHT
TZOFFSETFROM:+0100
TZOFFSETTO:+0200
TZNAME:CEST
DTSTART:20260329T010000
END:DAYLIGHT
BEGIN:STANDARD
TZOFFSETFROM:+0200
TZOFFSETTO:+0100
TZNAME:CET
DTSTART:20261025T010000
END:STANDARD
BEGIN:DAYLIGHT
TZOFFSETFROM:+0100
TZOFFSETTO:+0200
TZNAME:CEST
DTSTART:20270328T010000
END:DAYLIGHT
BEGIN:STANDARD
TZOFFSETFROM:+0200
TZOFFSETTO:+0100
TZNAME:CET
DTSTART:20271031T010000
END:STANDARD
END:VTIMEZONE
BEGIN:VEVENT
DTSTART;TZID=Europe/Zurich:20260430T150000
DTEND;TZID=Europe/Zurich:20260430T170000
DTSTAMP:20260422T095833
CREATED:20260325T114254Z
LAST-MODIFIED:20260325T114254Z
UID:10000081-1777561200-1777568400@gpclimat-fribourg.ch
SUMMARY:Kommen Sie mit uns im Botanischen Garten spazieren
DESCRIPTION:Klicken Sie auf das Bild zum Vergrößern
URL:https://gpclimat-fribourg.ch/de/event/kommen-sie-mit-uns-im-botanischen-garten-spazieren-2/
LOCATION:Freiburg
ATTACH;FMTTYPE=image/png:https://gpclimat-fribourg.ch/wp-content/uploads/2026/03/FlyerStammQuiMarche.png
END:VEVENT
BEGIN:VEVENT
DTSTART;TZID=Europe/Zurich:20260502T100000
DTEND;TZID=Europe/Zurich:20260502T170000
DTSTAMP:20260422T095833
CREATED:20260118T182421Z
LAST-MODIFIED:20260118T182421Z
UID:10000093-1777716000-1777741200@gpclimat-fribourg.ch
SUMMARY:Erdüberlastungstag 2026 – Overshoot Day 2026
DESCRIPTION:Klicken Sie auf das Bild\, um es zu vergrößern \nErdüberlastungstag in der Schweiz: Das Datum\, an dem die Schweizer Bevölkerung alle Ressourcen verbraucht hat\, die die Erde in einem Jahr für sie erneuern kann.\nIm Jahr 2026 findet dieser Erdüberlastungstag am Montag\, den 11. Mai\, statt. Wir werden jedoch unser traditionelles Treffen in der Rue de Romont in Freiburg am Samstag\, den 2. Mai 2026\, mit Stand\, Spielen\, Gedichten\, Geschichten usw. organisieren. Das Thema wird unsere Verbindung zur Natur sein\, eine Art\, Genügsamkeit zu leben. \nWer ist daran interessiert\, teilzunehmen? Eine Stunde? Zwei Stunden? Vorschläge? \n–> Bitte kontaktieren Sie Cristina: 079 454 35 56\, tclt@bluewin.ch
URL:https://gpclimat-fribourg.ch/de/event/erdueberlastungstag-2026-overshoot-day-2026/
LOCATION:Freiburg
ATTACH;FMTTYPE=image/png:https://gpclimat-fribourg.ch/wp-content/uploads/2026/01/JourDepassement2026.png
END:VEVENT
BEGIN:VEVENT
DTSTART;VALUE=DATE:20260518
DTEND;VALUE=DATE:20260523
DTSTAMP:20260422T095833
CREATED:20260129T115604Z
LAST-MODIFIED:20260129T115604Z
UID:10000087-1779062400-1779494399@gpclimat-fribourg.ch
SUMMARY:Klimawoche 2026
DESCRIPTION:Link zur Website „Klimawoche“
URL:https://gpclimat-fribourg.ch/de/event/klimawoche-2026/
LOCATION:Freiburg
ATTACH;FMTTYPE=image/jpeg:https://gpclimat-fribourg.ch/wp-content/uploads/2026/01/SemaineClimat2026.jpg
END:VEVENT
BEGIN:VEVENT
DTSTART;TZID=Europe/Zurich:20260528T150000
DTEND;TZID=Europe/Zurich:20260528T170000
DTSTAMP:20260422T095833
CREATED:20260212T104322Z
LAST-MODIFIED:20260212T104322Z
UID:10000089-1779980400-1779987600@gpclimat-fribourg.ch
SUMMARY:Kommen Sie mit uns in den Botanischen Garten spazieren
DESCRIPTION:Klicken Sie auf das Bild\, um es zu vergrößern
URL:https://gpclimat-fribourg.ch/de/event/kommen-sie-mit-uns-in-den-botanischen-garten-spazieren/
LOCATION:Freiburg
ATTACH;FMTTYPE=image/png:https://gpclimat-fribourg.ch/wp-content/uploads/2026/03/FlyerStammQuiMarche.png
END:VEVENT
BEGIN:VEVENT
DTSTART;TZID=Europe/Zurich:20260625T150000
DTEND;TZID=Europe/Zurich:20260625T170000
DTSTAMP:20260422T095833
CREATED:20260325T114323Z
LAST-MODIFIED:20260325T114323Z
UID:10000098-1782399600-1782406800@gpclimat-fribourg.ch
SUMMARY:Kommen Sie mit uns in den Botanischen Garten spazieren
DESCRIPTION:Klicken Sie auf das Bild\, um es zu vergrößern
URL:https://gpclimat-fribourg.ch/de/event/kommen-sie-mit-uns-in-den-botanischen-garten-spazieren-2/
LOCATION:Freiburg
ATTACH;FMTTYPE=image/png:https://gpclimat-fribourg.ch/wp-content/uploads/2026/03/FlyerStammQuiMarche.png
END:VEVENT
BEGIN:VEVENT
DTSTART;VALUE=DATE:20260627
DTEND;VALUE=DATE:20260628
DTSTAMP:20260422T095833
CREATED:20260325T131659Z
LAST-MODIFIED:20260325T131659Z
UID:10000104-1782518400-1782604799@gpclimat-fribourg.ch
SUMMARY:Repair Café – Reparieren statt wegwerfen
DESCRIPTION:Kommen Sie und lernen Sie\, Ihre defekten Gegenstände (Computer\, Haushaltsgeräte\, Kleidung usw.) mit Hilfe von freiwilligen Reparateurinnen und Reparateuren zu reparieren. \nam 27. Juni 2026 im Atelier\, Pl. de Notre Dame 16\, 1700 Freiburg.\nFREIER EINTRITT OHNE ANMELDUNG. \nWebsite von Repair Café \n 
URL:https://gpclimat-fribourg.ch/de/event/repair-cafe-reparieren-statt-wegwerfen-4/
LOCATION:Freiburg
ATTACH;FMTTYPE=image/png:https://gpclimat-fribourg.ch/wp-content/uploads/2026/03/RepairCafe.png
END:VEVENT
BEGIN:VEVENT
DTSTART;TZID=Europe/Zurich:20260827T150000
DTEND;TZID=Europe/Zurich:20260827T170000
DTSTAMP:20260422T095833
CREATED:20260325T114344Z
LAST-MODIFIED:20260325T114344Z
UID:10000136-1787842800-1787850000@gpclimat-fribourg.ch
SUMMARY:Kommen Sie mit uns im Botanischen Garten spazieren
DESCRIPTION:Klicken Sie auf das Bild\, um es zu vergrößern
URL:https://gpclimat-fribourg.ch/de/event/kommen-sie-mit-uns-im-botanischen-garten-spazieren-3/
LOCATION:Freiburg
ATTACH;FMTTYPE=image/png:https://gpclimat-fribourg.ch/wp-content/uploads/2026/03/FlyerStammQuiMarche.png
END:VEVENT
BEGIN:VEVENT
DTSTART;VALUE=DATE:20260912
DTEND;VALUE=DATE:20260913
DTSTAMP:20260422T095833
CREATED:20260325T132250Z
LAST-MODIFIED:20260325T132250Z
UID:10000100-1789171200-1789257599@gpclimat-fribourg.ch
SUMMARY:Repair Café – Reparieren statt Wegwerfen
DESCRIPTION:Lernen Sie\, Ihre defekten Gegenstände (Computer\, Haushaltsgeräte\, Kleidung usw.) mit Hilfe von ehrenamtlichen Reparateuren und Reparateurinnen zu reparieren. \nam 12. September 2026 im MakerSpace\, Boulevard de Pérolles 13a\, 1700 Freiburg\nEINTRITT FREI OHNE ANMELDUNG. \nWebsite von Repair Café \n 
URL:https://gpclimat-fribourg.ch/de/event/repair-cafe-reparieren-statt-wegwerfen/
LOCATION:Freiburg
ATTACH;FMTTYPE=image/png:https://gpclimat-fribourg.ch/wp-content/uploads/2026/03/RepairCafe.png
END:VEVENT
BEGIN:VEVENT
DTSTART;TZID=Europe/Zurich:20260924T150000
DTEND;TZID=Europe/Zurich:20260924T170000
DTSTAMP:20260422T095833
CREATED:20260325T114404Z
LAST-MODIFIED:20260325T114404Z
UID:10000102-1790262000-1790269200@gpclimat-fribourg.ch
SUMMARY:Kommen Sie mit uns in den Botanischen Garten spazieren
DESCRIPTION:Klicken Sie auf das Bild\, um es zu vergrößern
URL:https://gpclimat-fribourg.ch/de/event/kommen-sie-mit-uns-in-den-botanischen-garten-spazieren-3/
LOCATION:Freiburg
ATTACH;FMTTYPE=image/png:https://gpclimat-fribourg.ch/wp-content/uploads/2026/03/FlyerStammQuiMarche.png
END:VEVENT
BEGIN:VEVENT
DTSTART;TZID=Europe/Zurich:20261029T130000
DTEND;TZID=Europe/Zurich:20261029T183000
DTSTAMP:20260422T095833
CREATED:20260316T152806Z
LAST-MODIFIED:20260316T152806Z
UID:10000097-1793278800-1793298600@gpclimat-fribourg.ch
SUMMARY:Kantonaler Tag der Nachhaltigkeit
DESCRIPTION:Weitere Informationen: Kantonale Website / Nachhaltige Entwicklung
URL:https://gpclimat-fribourg.ch/de/event/kantonaler-tag-der-nachhaltigkeit/
LOCATION:Freiburg
ATTACH;FMTTYPE=image/png:https://gpclimat-fribourg.ch/wp-content/uploads/2026/03/2026_10_29-JourneeCantonale.png
END:VEVENT
BEGIN:VEVENT
DTSTART;TZID=Europe/Zurich:20261029T150000
DTEND;TZID=Europe/Zurich:20261029T170000
DTSTAMP:20260422T095833
CREATED:20260325T114424Z
LAST-MODIFIED:20260325T114424Z
UID:10000137-1793286000-1793293200@gpclimat-fribourg.ch
SUMMARY:Kommen Sie mit uns in den Botanischen Garten spazieren
DESCRIPTION:Klicken Sie auf das Bild\, um es zu vergrößern
URL:https://gpclimat-fribourg.ch/de/event/kommen-sie-mit-uns-in-den-botanischen-garten-spazieren-5/
LOCATION:Freiburg
ATTACH;FMTTYPE=image/png:https://gpclimat-fribourg.ch/wp-content/uploads/2026/03/FlyerStammQuiMarche.png
END:VEVENT
BEGIN:VEVENT
DTSTART;TZID=Europe/Zurich:20261126T150000
DTEND;TZID=Europe/Zurich:20261126T170000
DTSTAMP:20260422T095833
CREATED:20260325T114443Z
LAST-MODIFIED:20260325T114443Z
UID:10000108-1795705200-1795712400@gpclimat-fribourg.ch
SUMMARY:Kommen Sie mit uns in den Botanischen Garten spazieren
DESCRIPTION:Klicken Sie auf das Bild\, um es zu vergrößern
URL:https://gpclimat-fribourg.ch/de/event/kommen-sie-mit-uns-in-den-botanischen-garten-spazieren-4/
LOCATION:Freiburg
ATTACH;FMTTYPE=image/png:https://gpclimat-fribourg.ch/wp-content/uploads/2026/03/FlyerStammQuiMarche.png
END:VEVENT
BEGIN:VEVENT
DTSTART;VALUE=DATE:20261128
DTEND;VALUE=DATE:20261129
DTSTAMP:20260422T095833
CREATED:20260325T132352Z
LAST-MODIFIED:20260325T132352Z
UID:10000101-1795824000-1795910399@gpclimat-fribourg.ch
SUMMARY:Repair Café – Reparieren statt Wegwerfen
DESCRIPTION:Kommen Sie vorbei und lernen Sie\, Ihre defekten Gegenstände (Computer\, Haushaltsgeräte\, Kleidung usw.) mit Hilfe von ehrenamtlichen Reparateuren und Reparateurinnen zu reparieren. \nam 28. November 2026 in der Ecole des Métiers\, Rte des Daillettes 6\, 1700 Freiburg\nEINTRITT FREI OHNE ANMELDUNG. \nWebsite von Repair Café \n 
URL:https://gpclimat-fribourg.ch/de/event/repair-cafe-reparieren-statt-wegwerfen-2/
LOCATION:Freiburg
ATTACH;FMTTYPE=image/png:https://gpclimat-fribourg.ch/wp-content/uploads/2026/03/RepairCafe.png
END:VEVENT
END:VCALENDAR